BEGIN:VCALENDAR
VERSION:2.0
PRODID:-//Greater Lynn Chamber of Commerce - ECPv6.15.14//NONSGML v1.0//EN
CALSCALE:GREGORIAN
METHOD:PUBLISH
X-ORIGINAL-URL:https://greaterlynnchamber.com
X-WR-CALDESC:Events for Greater Lynn Chamber of Commerce
REFRESH-INTERVAL;VALUE=DURATION:PT1H
X-Robots-Tag:noindex
X-PUBLISHED-TTL:PT1H
BEGIN:VTIMEZONE
TZID:America/New_York
BEGIN:DAYLIGHT
TZOFFSETFROM:-0500
TZOFFSETTO:-0400
TZNAME:EDT
DTSTART:20220313T070000
END:DAYLIGHT
BEGIN:STANDARD
TZOFFSETFROM:-0400
TZOFFSETTO:-0500
TZNAME:EST
DTSTART:20221106T060000
END:STANDARD
BEGIN:DAYLIGHT
TZOFFSETFROM:-0500
TZOFFSETTO:-0400
TZNAME:EDT
DTSTART:20230312T070000
END:DAYLIGHT
BEGIN:STANDARD
TZOFFSETFROM:-0400
TZOFFSETTO:-0500
TZNAME:EST
DTSTART:20231105T060000
END:STANDARD
BEGIN:DAYLIGHT
TZOFFSETFROM:-0500
TZOFFSETTO:-0400
TZNAME:EDT
DTSTART:20240310T070000
END:DAYLIGHT
BEGIN:STANDARD
TZOFFSETFROM:-0400
TZOFFSETTO:-0500
TZNAME:EST
DTSTART:20241103T060000
END:STANDARD
END:VTIMEZONE
BEGIN:VEVENT
DTSTART;TZID=America/New_York:20231025T130000
DTEND;TZID=America/New_York:20231025T140000
DTSTAMP:20260419T201045
CREATED:20231005T152126Z
LAST-MODIFIED:20231005T152306Z
UID:10427-1698238800-1698242400@greaterlynnchamber.com
SUMMARY:Ribbon-Cutting: Wash Cycle Laundry
DESCRIPTION:Ribbon-Cutting: Wash Cycle Laundry\nOctober 25 | 626 Lynnway | 1-2pm\nRibbon Cutting at 1pm\, followed by a facility tour led by the CEO\, Gabriel Mandujano\n\n\nJoin us for a ribbon-cutting celebrating the grand opening of Wash Cycle Laundry in Lynn! Tour the facility\, hear more about the organization\, and meet the CEO and funding partners.\n\nAbout:\n“Founded in 2010 as a laundry and linen rental service and a social enterprise to create jobs and second chances for people overcoming histories of homelessness\, incarceration\, and more. Today\, we provide commercial and hotel laundry services to everybody from owner-operated hair salons to global hotel brands.”\nClick to view more about Wash Cycle Laundry
URL:https://greaterlynnchamber.com/event/ribbon-cutting-wash-cycle-laundry/
LOCATION:Wash Cycle Laundry\, 626 Lynnway\, Lynn
CATEGORIES:Chamber Events,Ribbon Cuttings
END:VEVENT
END:VCALENDAR