BEGIN:VCALENDAR
VERSION:2.0
PRODID:-//Greater Lynn Chamber of Commerce - ECPv6.15.14//NONSGML v1.0//EN
CALSCALE:GREGORIAN
METHOD:PUBLISH
X-WR-CALNAME:Greater Lynn Chamber of Commerce
X-ORIGINAL-URL:https://greaterlynnchamber.com
X-WR-CALDESC:Events for Greater Lynn Chamber of Commerce
REFRESH-INTERVAL;VALUE=DURATION:PT1H
X-Robots-Tag:noindex
X-PUBLISHED-TTL:PT1H
BEGIN:VTIMEZONE
TZID:America/New_York
BEGIN:DAYLIGHT
TZOFFSETFROM:-0500
TZOFFSETTO:-0400
TZNAME:EDT
DTSTART:20230312T070000
END:DAYLIGHT
BEGIN:STANDARD
TZOFFSETFROM:-0400
TZOFFSETTO:-0500
TZNAME:EST
DTSTART:20231105T060000
END:STANDARD
BEGIN:DAYLIGHT
TZOFFSETFROM:-0500
TZOFFSETTO:-0400
TZNAME:EDT
DTSTART:20240310T070000
END:DAYLIGHT
BEGIN:STANDARD
TZOFFSETFROM:-0400
TZOFFSETTO:-0500
TZNAME:EST
DTSTART:20241103T060000
END:STANDARD
BEGIN:DAYLIGHT
TZOFFSETFROM:-0500
TZOFFSETTO:-0400
TZNAME:EDT
DTSTART:20250309T070000
END:DAYLIGHT
BEGIN:STANDARD
TZOFFSETFROM:-0400
TZOFFSETTO:-0500
TZNAME:EST
DTSTART:20251102T060000
END:STANDARD
END:VTIMEZONE
BEGIN:VEVENT
DTSTART;TZID=America/New_York:20241107T083000
DTEND;TZID=America/New_York:20241107T093000
DTSTAMP:20260423T160814
CREATED:20241008T191237Z
LAST-MODIFIED:20241010T131658Z
UID:15654-1730968200-1730971800@greaterlynnchamber.com
SUMMARY:Breakfast Club & Ribbon Cutting at Obtek Services
DESCRIPTION:Breakfast Club & Ribbon Cutting at Obtek Services\nThurs\, November 7 | 8:30-9:30 AM | 273 Essex St.\, Lynn \n \nKick off your day with an energizing morning meet-up at Obtek Services!  Connect with fellow GLCC members and meet the dynamic team behind Obtek. Don’t miss the excitement as Mayor Nicholson joins us for an official ribbon-cutting ceremony to celebrate this special occasion. \nDiscover the wide range of services Obtek provides—from general contracting and real estate development to commercial snow removal and beyond. This is the perfect opportunity to expand your network and learn more about a growing industry leader! \nAll are welcome to attend! RSVP Today\nFREE for GLCC members | $10 Non-Members
URL:https://greaterlynnchamber.com/event/breakfast-club-ribbon-cutting-at-obtek-services/
LOCATION:Obtek Services\, 273 Essex St.\, Lynn\, MA
CATEGORIES:Breakfast Club Networking,Chamber Events,Ribbon Cuttings
END:VEVENT
END:VCALENDAR