BEGIN:VCALENDAR
VERSION:2.0
PRODID:-//Greater Lynn Chamber of Commerce - ECPv6.15.14//NONSGML v1.0//EN
CALSCALE:GREGORIAN
METHOD:PUBLISH
X-ORIGINAL-URL:https://greaterlynnchamber.com
X-WR-CALDESC:Events for Greater Lynn Chamber of Commerce
REFRESH-INTERVAL;VALUE=DURATION:PT1H
X-Robots-Tag:noindex
X-PUBLISHED-TTL:PT1H
BEGIN:VTIMEZONE
TZID:America/New_York
BEGIN:DAYLIGHT
TZOFFSETFROM:-0500
TZOFFSETTO:-0400
TZNAME:EDT
DTSTART:20210314T070000
END:DAYLIGHT
BEGIN:STANDARD
TZOFFSETFROM:-0400
TZOFFSETTO:-0500
TZNAME:EST
DTSTART:20211107T060000
END:STANDARD
BEGIN:DAYLIGHT
TZOFFSETFROM:-0500
TZOFFSETTO:-0400
TZNAME:EDT
DTSTART:20220313T070000
END:DAYLIGHT
BEGIN:STANDARD
TZOFFSETFROM:-0400
TZOFFSETTO:-0500
TZNAME:EST
DTSTART:20221106T060000
END:STANDARD
BEGIN:DAYLIGHT
TZOFFSETFROM:-0500
TZOFFSETTO:-0400
TZNAME:EDT
DTSTART:20230312T070000
END:DAYLIGHT
BEGIN:STANDARD
TZOFFSETFROM:-0400
TZOFFSETTO:-0500
TZNAME:EST
DTSTART:20231105T060000
END:STANDARD
END:VTIMEZONE
BEGIN:VEVENT
DTSTART;TZID=America/New_York:20220525T083000
DTEND;TZID=America/New_York:20220525T093000
DTSTAMP:20260421T005441
CREATED:20220510T144535Z
LAST-MODIFIED:20220510T144635Z
UID:6713-1653467400-1653471000@greaterlynnchamber.com
SUMMARY:Breakfast Club at Iron Town Diner
DESCRIPTION:Breakfast Club at Iron Town Diner\nWednesday\, May 25 | 8:30-9:30 am | 325 Main St.\, Saugus\n \nJumpstart your morning with the GLCC at Iron Town Diner! \nBreakfast Club events are designed for a targeted group of local business leaders to connect and build a larger network of referrals before heading to work. \nFREE to Attend | All are Welcome | Please RSVP in Advance \n 
URL:https://greaterlynnchamber.com/event/breakfast-club-at-iron-town-diner/
LOCATION:Iron Town Diner\, 325 Main St.\, Saugus
CATEGORIES:Breakfast Club Networking,Chamber Events
END:VEVENT
END:VCALENDAR