BEGIN:VCALENDAR
VERSION:2.0
PRODID:-//Greater Lynn Chamber of Commerce - ECPv6.15.14//NONSGML v1.0//EN
CALSCALE:GREGORIAN
METHOD:PUBLISH
X-ORIGINAL-URL:https://greaterlynnchamber.com
X-WR-CALDESC:Events for Greater Lynn Chamber of Commerce
REFRESH-INTERVAL;VALUE=DURATION:PT1H
X-Robots-Tag:noindex
X-PUBLISHED-TTL:PT1H
BEGIN:VTIMEZONE
TZID:America/New_York
BEGIN:DAYLIGHT
TZOFFSETFROM:-0500
TZOFFSETTO:-0400
TZNAME:EDT
DTSTART:20230312T070000
END:DAYLIGHT
BEGIN:STANDARD
TZOFFSETFROM:-0400
TZOFFSETTO:-0500
TZNAME:EST
DTSTART:20231105T060000
END:STANDARD
BEGIN:DAYLIGHT
TZOFFSETFROM:-0500
TZOFFSETTO:-0400
TZNAME:EDT
DTSTART:20240310T070000
END:DAYLIGHT
BEGIN:STANDARD
TZOFFSETFROM:-0400
TZOFFSETTO:-0500
TZNAME:EST
DTSTART:20241103T060000
END:STANDARD
BEGIN:DAYLIGHT
TZOFFSETFROM:-0500
TZOFFSETTO:-0400
TZNAME:EDT
DTSTART:20250309T070000
END:DAYLIGHT
BEGIN:STANDARD
TZOFFSETFROM:-0400
TZOFFSETTO:-0500
TZNAME:EST
DTSTART:20251102T060000
END:STANDARD
END:VTIMEZONE
BEGIN:VEVENT
DTSTART;TZID=America/New_York:20240917T083000
DTEND;TZID=America/New_York:20240917T093000
DTSTAMP:20260423T230345
CREATED:20240813T185629Z
LAST-MODIFIED:20240827T182831Z
UID:14274-1726561800-1726565400@greaterlynnchamber.com
SUMMARY:Breakfast Club at Harbor Place Clubhouse
DESCRIPTION:Breakfast Club at Harbor Place Clubhouse\nTuesday\, Sept. 17 | 8:30-9:30 AM | 95 Pleasant St.\, Lynn \n \nStart your day with networking at our morning meet-up! Join us at Harbor Place Clubhouse for a fantastic opportunity to connect with fellow chamber members and expand your network before heading to work. \nAll are welcome to attend! RSVP Today\nFREE for GLCC members | $10 Non-Members
URL:https://greaterlynnchamber.com/event/breakfast-club-at-harbor-place-clubhouse/
LOCATION:Harbor Place Clubhouse\, 95 Pleasant St.\, Lynn
CATEGORIES:Breakfast Club Networking,Chamber Events
END:VEVENT
END:VCALENDAR