BEGIN:VCALENDAR
VERSION:2.0
PRODID:-//Greater Lynn Chamber of Commerce - ECPv6.15.14//NONSGML v1.0//EN
CALSCALE:GREGORIAN
METHOD:PUBLISH
X-ORIGINAL-URL:https://greaterlynnchamber.com
X-WR-CALDESC:Events for Greater Lynn Chamber of Commerce
REFRESH-INTERVAL;VALUE=DURATION:PT1H
X-Robots-Tag:noindex
X-PUBLISHED-TTL:PT1H
BEGIN:VTIMEZONE
TZID:America/New_York
BEGIN:DAYLIGHT
TZOFFSETFROM:-0500
TZOFFSETTO:-0400
TZNAME:EDT
DTSTART:20210314T070000
END:DAYLIGHT
BEGIN:STANDARD
TZOFFSETFROM:-0400
TZOFFSETTO:-0500
TZNAME:EST
DTSTART:20211107T060000
END:STANDARD
BEGIN:DAYLIGHT
TZOFFSETFROM:-0500
TZOFFSETTO:-0400
TZNAME:EDT
DTSTART:20220313T070000
END:DAYLIGHT
BEGIN:STANDARD
TZOFFSETFROM:-0400
TZOFFSETTO:-0500
TZNAME:EST
DTSTART:20221106T060000
END:STANDARD
BEGIN:DAYLIGHT
TZOFFSETFROM:-0500
TZOFFSETTO:-0400
TZNAME:EDT
DTSTART:20230312T070000
END:DAYLIGHT
BEGIN:STANDARD
TZOFFSETFROM:-0400
TZOFFSETTO:-0500
TZNAME:EST
DTSTART:20231105T060000
END:STANDARD
END:VTIMEZONE
BEGIN:VEVENT
DTSTART;TZID=America/New_York:20221029T100000
DTEND;TZID=America/New_York:20221029T120000
DTSTAMP:20260421T034939
CREATED:20221027T173735Z
LAST-MODIFIED:20221027T173735Z
UID:7535-1667037600-1667044800@greaterlynnchamber.com
SUMMARY:Guided Hike Through Lynn Woods
DESCRIPTION:Join the Lynn Public Library on a guided hike through Lynn Woods\, courtesy of Ranger Dan and the Lynn Woods Reservation. Learn more about our beautiful urban woodland\, while enjoying the sights and sounds of nature. Patrons are asked to meet at the Pennybrook Rd. entrance (off of Walnut St.). To register\, call the Main Desk at 781-595-0567.
URL:https://greaterlynnchamber.com/event/guided-hike-through-lynn-woods/
LOCATION:Lynn Woods Reservation
CATEGORIES:Community Events
END:VEVENT
END:VCALENDAR