BEGIN:VCALENDAR
VERSION:2.0
PRODID:-//Greater Lynn Chamber of Commerce - ECPv6.15.14//NONSGML v1.0//EN
CALSCALE:GREGORIAN
METHOD:PUBLISH
X-WR-CALNAME:Greater Lynn Chamber of Commerce
X-ORIGINAL-URL:https://greaterlynnchamber.com
X-WR-CALDESC:Events for Greater Lynn Chamber of Commerce
REFRESH-INTERVAL;VALUE=DURATION:PT1H
X-Robots-Tag:noindex
X-PUBLISHED-TTL:PT1H
BEGIN:VTIMEZONE
TZID:America/New_York
BEGIN:DAYLIGHT
TZOFFSETFROM:-0500
TZOFFSETTO:-0400
TZNAME:EDT
DTSTART:20250309T070000
END:DAYLIGHT
BEGIN:STANDARD
TZOFFSETFROM:-0400
TZOFFSETTO:-0500
TZNAME:EST
DTSTART:20251102T060000
END:STANDARD
BEGIN:DAYLIGHT
TZOFFSETFROM:-0500
TZOFFSETTO:-0400
TZNAME:EDT
DTSTART:20260308T070000
END:DAYLIGHT
BEGIN:STANDARD
TZOFFSETFROM:-0400
TZOFFSETTO:-0500
TZNAME:EST
DTSTART:20261101T060000
END:STANDARD
BEGIN:DAYLIGHT
TZOFFSETFROM:-0500
TZOFFSETTO:-0400
TZNAME:EDT
DTSTART:20270314T070000
END:DAYLIGHT
BEGIN:STANDARD
TZOFFSETFROM:-0400
TZOFFSETTO:-0500
TZNAME:EST
DTSTART:20271107T060000
END:STANDARD
END:VTIMEZONE
BEGIN:VEVENT
DTSTART;TZID=America/New_York:20260423T180000
DTEND;TZID=America/New_York:20260423T210000
DTSTAMP:20260423T155924
CREATED:20260306T141136Z
LAST-MODIFIED:20260306T141136Z
UID:24049-1776967200-1776978000@greaterlynnchamber.com
SUMMARY:Play It Forward: A Dueling Piano Fundraiser for Centerboard
DESCRIPTION:Join us for Play It Forward\, a fun night of dueling pianos raising funds for Centerboard’s programs! \nGet ready for a FULL night of music\, laughter\, and community impact! Join us for Play It Forward\, an interactive dueling piano fundraiser where all proceeds support Centerboard’s work with families and individuals in our community. \nBring your tips\, song requests\, and energy as talented pianists take your favorite songs and turn them into an unforgettable live experience. Whether you love pop hits\, classic rock\, R&B\, or throwback favorites—this is your chance to help shape the playlist while supporting a great cause. \n🌟Featuring pianists Greg Asadoorian and Davina Yannetty🌟 \nFor sponsorship opportunities and information contact Development Director Machel Piper via email at mpiper@centerboard.org.
URL:https://greaterlynnchamber.com/event/play-it-forward-a-dueling-piano-fundraiser-for-centerboard/
LOCATION:MA
CATEGORIES:Community Events,Member Events
ATTACH;FMTTYPE=image/png:https://greaterlynnchamber.com/wp-content/uploads/2026/03/Palette-Events-Slideshow-YouTube-Thumbnail.png
END:VEVENT
BEGIN:VEVENT
DTSTART;TZID=America/New_York:20260423T190000
DTEND;TZID=America/New_York:20260423T210000
DTSTAMP:20260423T155924
CREATED:20231115T190859Z
LAST-MODIFIED:20231115T190859Z
UID:12361-1776970800-1776978000@greaterlynnchamber.com
SUMMARY:Weekly Trivia @ Bent Water Brewing Taproom
DESCRIPTION:Every Thursday from 7 PM to 9 PM Bent Water will be hosting a Trivia!
URL:https://greaterlynnchamber.com/event/weekly-trivia-bent-water-brewing-taproom/2026-04-23/
LOCATION:MA
CATEGORIES:Community Events
ATTACH;FMTTYPE=image/png:https://greaterlynnchamber.com/wp-content/uploads/2023/11/Trivia-Night.png
END:VEVENT
BEGIN:VEVENT
DTSTART;TZID=America/New_York:20260428T083000
DTEND;TZID=America/New_York:20260428T103000
DTSTAMP:20260423T155924
CREATED:20260309T162343Z
LAST-MODIFIED:20260309T162343Z
UID:24095-1777365000-1777372200@greaterlynnchamber.com
SUMMARY:Intellectual Property Basics
DESCRIPTION:In this in-person workshop\, learn the fundamentals of the four main types of intellectual property (IP): trademarks\, copyrights\, patents\, and trade secrets. For each type of IP\, business attorneys will provide examples\, explain what each protects (and does not protect)\, go over the laws governing each\, and show where to find official resources to learn more. Time will be reserved for audience Q&A. \nTopics Covered:* \nCopyrights: protect original creative works\, like writing\, art\, and media\nTrademarks: protect names\, logos\, and slogans that identify a business\nPatents: protect inventions\, designs\, and processes from being copied\nTrade Secrets: protection of confidential business information that gives a competitive advantage and has value because it is not generally known\n*The majority of the presentation time will be allocated to discussing Copyrights and Trademarks. \nWho Should Attend: \nEntrepreneurs\nSmall Business Owners\nBusiness Consultants\nAnyone interested in learning about intellectual property law\nThis informative workshop is offered at no cost and is being sponsored in partnership with the North Shore Alliance for Economic Development and the Massachusetts Office of Business Development (MOBD).
URL:https://greaterlynnchamber.com/event/intellectual-property-basics/
LOCATION:The Enterprise Center at Salem State University\, 121 Loring Avenue\, Salem\, M\, 01970\, United States
CATEGORIES:Member Events
ATTACH;FMTTYPE=image/png:https://greaterlynnchamber.com/wp-content/uploads/2026/03/enterprisectr-logo.png
END:VEVENT
BEGIN:VEVENT
DTSTART;TZID=America/New_York:20260428T130000
DTEND;TZID=America/New_York:20260428T140000
DTSTAMP:20260423T155924
CREATED:20260331T154832Z
LAST-MODIFIED:20260331T154832Z
UID:24484-1777381200-1777384800@greaterlynnchamber.com
SUMMARY:Commonwealth Payroll & HR Webinar: If a Pay Dispute Lands on Your Desk\, Will Your Time Records Hold Up?
DESCRIPTION:It only takes one payroll mistake to trigger a wage dispute. And in court\, being right isn’t enough if you can’t prove it. \nIn this live webinar\, we’ll show you how to protect your business and make sure your timekeeping records hold up under scrutiny. Plus\, you’ll see a live demo of our timekeeping solution and how it helps create accurate\, audit-ready records with less manual effort. \nWhy This Matters: \nWage disputes happen more often than most employers expect\, and when they do\, incomplete or inconsistent time records can quickly lead to back pay\, penalties\, legal exposure\, and hours of manual cleanup. If your time tracking isn’t airtight\, you may be carrying more risk than you realize. \nLearn How To: \n-Eliminate typical timekeeping errors that increase risk\n-Keep clear\, audit-ready records\n-Accurately track hours across your team\n-Reduce payroll errors and manual rework\n-Manage schedules and attendance more efficiently \nGet ahead of the risk now\, so you’re never stuck trying to prove it later.
URL:https://greaterlynnchamber.com/event/commonwealth-payroll-hr-webinar-if-a-pay-dispute-lands-on-your-desk-will-your-time-records-hold-up/
LOCATION:MA
CATEGORIES:Member Events
ATTACH;FMTTYPE=image/png:https://greaterlynnchamber.com/wp-content/uploads/2026/03/isolved-Time-webinar-photo-option1_340x220-1.png
END:VEVENT
BEGIN:VEVENT
DTSTART;TZID=America/New_York:20260429T083000
DTEND;TZID=America/New_York:20260429T093000
DTSTAMP:20260423T155924
CREATED:20260401T183125Z
LAST-MODIFIED:20260401T183125Z
UID:24543-1777451400-1777455000@greaterlynnchamber.com
SUMMARY:GAC Meeting with Lisa Tobin\, Lynn Public Health Director
DESCRIPTION:GAC Meeting with Lisa Tobin\, Lynn Public Health Director \nWednesday\, April 29 | 8:30-9:30 AM\nMeeting held in-person at GLCC and via Zoom \n \nJoin us for our April Government Affairs Committee (GAC) Meeting featuring Lisa Tobin\, Lynn Public Health Director\, as she shares important updates from the City of Lynn’s Public Health Department. \nThis month’s discussion will highlight a new Quality Assurance Program being implemented in partnership with MoJin Inspections. Through this initiative\, MoJin supervisors will conduct same-day follow-up visits to restaurants after inspections are completed—ensuring inspections are thorough\, consistent\, and helpful for business owners. These visits will also provide an opportunity for direct feedback from the Person in Charge\, helping to strengthen communication and support for local establishments. \nDon’t miss this opportunity to stay informed on public health practices that directly impact your business and the broader Lynn community\, while engaging in meaningful conversation with local leadership. \nAll are welcome to attend. RSVP Today! \nRegister for IN-PERSON | Register for ZOOM\n 
URL:https://greaterlynnchamber.com/event/gac-meeting-with-lisa-tobin-lynn-public-health-director/
LOCATION:GLCC Office\, 614 Washington St.\, 2nd Floor\, Lynn\, MA\, 01901\, United States
CATEGORIES:Chamber Events,Government Affairs
END:VEVENT
BEGIN:VEVENT
DTSTART;TZID=America/New_York:20260430T190000
DTEND;TZID=America/New_York:20260430T210000
DTSTAMP:20260423T155924
CREATED:20231115T190859Z
LAST-MODIFIED:20231115T190859Z
UID:12442-1777575600-1777582800@greaterlynnchamber.com
SUMMARY:Weekly Trivia @ Bent Water Brewing Taproom
DESCRIPTION:Every Thursday from 7 PM to 9 PM Bent Water will be hosting a Trivia!
URL:https://greaterlynnchamber.com/event/weekly-trivia-bent-water-brewing-taproom/2026-04-30/
LOCATION:MA
CATEGORIES:Community Events
ATTACH;FMTTYPE=image/png:https://greaterlynnchamber.com/wp-content/uploads/2023/11/Trivia-Night.png
END:VEVENT
END:VCALENDAR