BEGIN:VCALENDAR
VERSION:2.0
PRODID:-//Greater Lynn Chamber of Commerce - ECPv6.15.14//NONSGML v1.0//EN
CALSCALE:GREGORIAN
METHOD:PUBLISH
X-WR-CALNAME:Greater Lynn Chamber of Commerce
X-ORIGINAL-URL:https://greaterlynnchamber.com
X-WR-CALDESC:Events for Greater Lynn Chamber of Commerce
REFRESH-INTERVAL;VALUE=DURATION:PT1H
X-Robots-Tag:noindex
X-PUBLISHED-TTL:PT1H
BEGIN:VTIMEZONE
TZID:America/New_York
BEGIN:DAYLIGHT
TZOFFSETFROM:-0500
TZOFFSETTO:-0400
TZNAME:EDT
DTSTART:20220313T070000
END:DAYLIGHT
BEGIN:STANDARD
TZOFFSETFROM:-0400
TZOFFSETTO:-0500
TZNAME:EST
DTSTART:20221106T060000
END:STANDARD
BEGIN:DAYLIGHT
TZOFFSETFROM:-0500
TZOFFSETTO:-0400
TZNAME:EDT
DTSTART:20230312T070000
END:DAYLIGHT
BEGIN:STANDARD
TZOFFSETFROM:-0400
TZOFFSETTO:-0500
TZNAME:EST
DTSTART:20231105T060000
END:STANDARD
BEGIN:DAYLIGHT
TZOFFSETFROM:-0500
TZOFFSETTO:-0400
TZNAME:EDT
DTSTART:20240310T070000
END:DAYLIGHT
BEGIN:STANDARD
TZOFFSETFROM:-0400
TZOFFSETTO:-0500
TZNAME:EST
DTSTART:20241103T060000
END:STANDARD
END:VTIMEZONE
BEGIN:VEVENT
DTSTART;TZID=America/New_York:20230602T120000
DTEND;TZID=America/New_York:20230602T130000
DTSTAMP:20260419T233929
CREATED:20230426T135206Z
LAST-MODIFIED:20230509T182811Z
UID:9327-1685707200-1685710800@greaterlynnchamber.com
SUMMARY:Ribbon Cutting: Local Cannabis Co.\, Swampscott
DESCRIPTION:Ribbon Cutting: Local Cannabis Co.\, Swampscott\nFriday\, June 2 | 12:00 pm | 16 New Ocean St.\, Swampscott \n \nHelp us welcome Local Cannabis Co. to the GLCC with an official ribbon-cutting ceremony! \nSupport a local business\, learn more about the organization\, and network with fellow GLCC members and staff. \nAll are welcome to attend!
URL:https://greaterlynnchamber.com/event/ribbon-cutting-local-cannabis-co-swampscott/
LOCATION:Local Cannabis Co.\, 16 New Ocean St.\, Swampscott
CATEGORIES:Chamber Events,Ribbon Cuttings
END:VEVENT
BEGIN:VEVENT
DTSTART;TZID=America/New_York:20230603T110000
DTEND;TZID=America/New_York:20230603T130000
DTSTAMP:20260419T233929
CREATED:20230523T133512Z
LAST-MODIFIED:20230523T133512Z
UID:9555-1685790000-1685797200@greaterlynnchamber.com
SUMMARY:Blessing of the Animals & $10.00 Rabies Shots
DESCRIPTION:Blessing of the Animals & Affordable Rabies Clinic taking place at Grace United Methodist Church of Lynn. All are welcome. June 3\, 2023. You can bring any animal (on a leash or in a carrier) to be blessed\, and the Veterinary Association of the North Shore will be giving Rabies Vaccination shots for Cats and Dogs for $10.00 a shot. Bring proof of previous vaccinations if you have them. The $10.00 fee will be used to fund veterinary student scholarships.  The Event Starts at 11:00 am and will run until at least 1:00 pm. We will continue to give shots if there is still a line at 1:00 pm.  This event is being Hosted by the Community Team at Grace United Methodist Church. There is no cost for the blessing\, and we will be collecting pet food to donate to the North Shore Animal Animal Hospital.
URL:https://greaterlynnchamber.com/event/blessing-of-the-animals-10-00-rabies-shots/
CATEGORIES:Community Events
ATTACH;FMTTYPE=image/png:https://greaterlynnchamber.com/wp-content/uploads/2023/05/test1.png
END:VEVENT
BEGIN:VEVENT
DTSTART;TZID=America/New_York:20230604T100000
DTEND;TZID=America/New_York:20230604T130000
DTSTAMP:20260419T233929
CREATED:20230320T155008Z
LAST-MODIFIED:20230320T171415Z
UID:8892-1685872800-1685883600@greaterlynnchamber.com
SUMMARY:31st Walk (Run!) for HAWC
DESCRIPTION:This 5K Walk/Run event raises much needed funds for HAWC’s life saving work while also raising awareness of domestic abuse and celebrating the resilience of survivors. After the Run and Walk stay to enjoy lunch courtesy of Kelly’s Roast Beef\, award ceremony for the runners\, kids games and activities and an adorable pet parade led by the Good Witch of Salem. Bring your pet!!
URL:https://greaterlynnchamber.com/event/31st-walk-run-for-hawc/
CATEGORIES:Community Events
ATTACH;FMTTYPE=image/jpeg:https://greaterlynnchamber.com/wp-content/uploads/2023/03/HAWC-Walk-Logo-sneakers-off-C-no-date.jpg
END:VEVENT
BEGIN:VEVENT
DTSTART;TZID=America/New_York:20230605T180000
DTEND;TZID=America/New_York:20230605T200000
DTSTAMP:20260419T233929
CREATED:20230519T135208Z
LAST-MODIFIED:20230519T135208Z
UID:9513-1685988000-1685995200@greaterlynnchamber.com
SUMMARY:Media Center Mondays
DESCRIPTION:Come down to Lynn Community Television to learn what community media is all about during “Media Center Mondays” in June & July! Residents of each of the City of Lynn’s 7 wards are invited to visit Lynn’s award-winning community media center to see our equipment\, chat with staff\, and sign up to become a member. \nSee LCTV’s state-of-the-art HD studio with cameras\, lights\, teleprompters and more. See our 5-mic podcast setup\, portable cameras\, and more set up for use. Find out how we can help make your idea for a talk show\, documentary\, podcast\, and more a reality! \nHappening on Mondays from 6-8PM at Lynn Community Television\, starting June 5th and ending July 24th (no event July 3rd). Each ward of the city gets its own special open house day\, but the community is welcome to stop in for any! \nPlease reach out to us at 781-780-9460 if you have any questions.
URL:https://greaterlynnchamber.com/event/media-center-mondays/2023-06-05/
CATEGORIES:Community Events
ATTACH;FMTTYPE=image/jpeg:https://greaterlynnchamber.com/wp-content/uploads/2023/05/2023-Open-House-flier-scaled.jpg
END:VEVENT
BEGIN:VEVENT
DTSTART;TZID=America/New_York:20230606T130000
DTEND;TZID=America/New_York:20230606T140000
DTSTAMP:20260419T233929
CREATED:20230606T132511Z
LAST-MODIFIED:20230606T132511Z
UID:9658-1686056400-1686060000@greaterlynnchamber.com
SUMMARY:SCORE Webinar: How to Navigate Small Claims Court When Your Clients Refuse to Pay
DESCRIPTION:About the event\n\n\n\nWhen clients refuse to pay for services\, it can significantly impact your small business\, and the legal options available to you can be a confusing process. \nIn this webinar\, our expert presenter will walk you through the small claims court process\, give you practical tips to navigate the process and help you avoid common mistakes that small business owners make when pursuing unpaid services. \nYou will learn: \n\nHow to determine if you should hire a lawyer\nHow to file a claim in small claims court\nHow to prepare for court\nHow to collect your judgment if you win your case\n\nLive attendees will receive free business resources and a link to this webinar recording.
URL:https://greaterlynnchamber.com/event/score-webinar-how-to-navigate-small-claims-court-when-your-clients-refuse-to-pay/
CATEGORIES:SCORE - Free Business Counseling
END:VEVENT
BEGIN:VEVENT
DTSTART;TZID=America/New_York:20230608T130000
DTEND;TZID=America/New_York:20230608T140000
DTSTAMP:20260419T233929
CREATED:20230606T132732Z
LAST-MODIFIED:20230606T132732Z
UID:9662-1686229200-1686232800@greaterlynnchamber.com
SUMMARY:SCORE Webinar: Should You Buy a Franchise or Start Your Own Business?
DESCRIPTION:About the event\n\n\n\nAre you looking to become a business owner but don’t know if you should buy a franchise or start your own business? Join us as we break down the pros and cons of buying a franchise vs. starting your own business. \nIn this webinar\, our expert presenter will explain the key factors to consider when investing in a franchise and how that compares to starting your own independent business. By the end of this webinar\, you will have the confidence and knowledge to make an informed decision. \nYou’ll learn: \n\nThe Pros and Cons of starting your own business\nThe Pros and Cons of franchise ownership\nHow to find the right franchise for you\n\nLive attendees will receive free business resources and a link to this webinar recording.
URL:https://greaterlynnchamber.com/event/score-webinar-should-you-buy-a-franchise-or-start-your-own-business/
CATEGORIES:SCORE - Free Business Counseling
END:VEVENT
BEGIN:VEVENT
DTSTART;TZID=America/New_York:20230609T120000
DTEND;TZID=America/New_York:20230609T130000
DTSTAMP:20260419T233929
CREATED:20230522T141146Z
LAST-MODIFIED:20230531T192953Z
UID:9540-1686312000-1686315600@greaterlynnchamber.com
SUMMARY:Ribbon Cutting: Home Decor Group\, Swampscott
DESCRIPTION:Ribbon Cutting: Home Decor Group\, Swampscott\nFriday\, June 9 | 12pm | 450 Paradise Rd.\, Swampscott \nCelebrate the grand re-opening of the NEW & improved Home Decor Group in Swampscott! \nAll are welcome to attend. Support your local business community! \n \n \n 
URL:https://greaterlynnchamber.com/event/ribbon-cutting-home-decor-group-swampscott/
LOCATION:Home Decor Group\, Swampscott\, 450 Paradise Rd.\, Swampscott
CATEGORIES:Chamber Events,Ribbon Cuttings
END:VEVENT
BEGIN:VEVENT
DTSTART;TZID=America/New_York:20230609T180000
DTEND;TZID=America/New_York:20230609T210000
DTSTAMP:20260419T233929
CREATED:20230426T134153Z
LAST-MODIFIED:20230426T134153Z
UID:9323-1686333600-1686344400@greaterlynnchamber.com
SUMMARY:Networking After Hours at North Shore Navigators - Opening Night!
DESCRIPTION:Networking After Hours at North Shore Navigators – Opening Night!\nFriday\, June 9 | 6-9 PM | Fraser Field\, Lynn\n\n\nJoin the GLCC  for an outdoor networking event on the party deck at Fraser Field! Celebrate the start of summer and opening night of the 2023 North Shore Navigators season!\n\nEnjoy dinner and a game\, including: Fraser Field Franks\, Angus Beef Hamburgers\, Bianco Sausages with peppers & onions\, ice cream\, water/soda.\n\nCash bar will be available on the party deck.\n\n$30 per person | Advance Registration Required!\nPrice Includes Ticket to Game\, Food & Water/Soda
URL:https://greaterlynnchamber.com/event/networking-after-hours-at-north-shore-navigators-opening-night-2/
LOCATION:Fraser Field\, 365 Western Ave\, Lynn
CATEGORIES:Business After Hours,Chamber Events
END:VEVENT
BEGIN:VEVENT
DTSTART;TZID=America/New_York:20230614T080000
DTEND;TZID=America/New_York:20230614T100000
DTSTAMP:20260419T233929
CREATED:20230504T134556Z
LAST-MODIFIED:20230601T171709Z
UID:9425-1686729600-1686736800@greaterlynnchamber.com
SUMMARY:2023 State of the Breakfast Region
DESCRIPTION:Presented in collaboration with: \n \nState of the Region Breakfast Forum\nWed.\, June 14 | 8-10 AM | Nahant Country Club\n$40 per person | Includes buffet breakfast | Register in advance \nMunicipal leaders of the Greater Lynn area will provide economic updates on the happenings within their cities and towns. \n \n \nTHANK YOU\, EVENT SPONSORS!\n— GOLD SPONSORS —\n \n— SILVER SPONSOR —
URL:https://greaterlynnchamber.com/event/2023-state-of-the-breakfast-region/
LOCATION:Nahant Country Club\, 280 Nahant Rd.\, Nahant
CATEGORIES:Breakfast Forums,Chamber Events
END:VEVENT
BEGIN:VEVENT
DTSTART;TZID=America/New_York:20230614T170000
DTEND;TZID=America/New_York:20230614T190000
DTSTAMP:20260419T233929
CREATED:20230125T151056Z
LAST-MODIFIED:20230511T174056Z
UID:8006-1686762000-1686769200@greaterlynnchamber.com
SUMMARY:Multi-Chamber After Hours at Misselwood
DESCRIPTION:Multi-Chamber Networking After Hours at Misselwood\nWednesday\, June 14 | 5 – 7 pm | Misselwood
URL:https://greaterlynnchamber.com/event/8006/
LOCATION:Misselwood\, 407 Hale St.\, Beverly\, MA\, 01915
CATEGORIES:Business After Hours,Chamber Events
END:VEVENT
BEGIN:VEVENT
DTSTART;TZID=America/New_York:20230615T083000
DTEND;TZID=America/New_York:20230615T093000
DTSTAMP:20260419T233929
CREATED:20230524T182514Z
LAST-MODIFIED:20230605T175417Z
UID:9580-1686817800-1686821400@greaterlynnchamber.com
SUMMARY:Breakfast Club at Red Rock Park with Via Guatemala Coffee!
DESCRIPTION:Breakfast Club at Red Rock Park with Via Guatemala Coffee!\nThursday\, June 15 | 8:30-9:30 am | 181 Lynn Shore Drive\, Lynn \n \nJumpstart your morning with the GLCC and Via Guatemala Coffee at Red Rock Park! \nConnect with local business leaders and professionals and build a larger network of referrals before heading to work. \nFREE to Attend | All are Welcome | Please RSVP in Advance\nCoffee provided by Via Guatemala
URL:https://greaterlynnchamber.com/event/breakfast-club-at-red-rock-park/
LOCATION:Red Rock Park\, 188 Lynn Shore Drive\, Lynn
CATEGORIES:Breakfast Club Networking,Chamber Events
END:VEVENT
BEGIN:VEVENT
DTSTART;TZID=America/New_York:20230615T130000
DTEND;TZID=America/New_York:20230615T140000
DTSTAMP:20260419T233929
CREATED:20230525T150136Z
LAST-MODIFIED:20230525T150136Z
UID:9589-1686834000-1686837600@greaterlynnchamber.com
SUMMARY:Live Webinar: Why Performance Evaluations & Effective Feedback Matter
DESCRIPTION:Let’s face it. Performance evaluations can be awkward\, dreaded even – both for the reviewer and the reviewee. \nBut – if done well\, fairly and objectively\, they can: \n-give employees actionable feedback\n-make employees more engaged\n-set clear expectations for performance going forward\n-create well-defined goals for the next review period\n-give employers the documentation they need to justify pay adjustments \nJoin us on Thursday\, June 15th at 1pm EST\, as we cover performance management topics that will help make your performance reviews more effective for both employer and employee.\nRegister today for this free online webinar at www.CommPayHR.com/webinars/
URL:https://greaterlynnchamber.com/event/live-webinar-why-performance-evaluations-effective-feedback-matter/
CATEGORIES:Member Events
ATTACH;FMTTYPE=image/png:https://greaterlynnchamber.com/wp-content/uploads/2023/05/3-4.png
END:VEVENT
BEGIN:VEVENT
DTSTART;TZID=America/New_York:20230615T173000
DTEND;TZID=America/New_York:20230615T210000
DTSTAMP:20260419T233929
CREATED:20230526T132028Z
LAST-MODIFIED:20230526T132028Z
UID:9600-1686850200-1686862800@greaterlynnchamber.com
SUMMARY:The Haven Project Annual Fundraising Party - Catalyst Kickoff
DESCRIPTION:Please join us for a night of delicious food\, friendship\, music and dancing;\nand learn more about The Haven Project and our latest initiative!\nAll proceeds benefit homeless youth in our community.
URL:https://greaterlynnchamber.com/event/the-haven-project-annual-fundraising-party-catalyst-kickoff/
CATEGORIES:Community Events
ATTACH;FMTTYPE=image/jpeg:https://greaterlynnchamber.com/wp-content/uploads/2023/05/Please-join-us-for-a-night-of-delicious-food-fun-friendship-and-learn-more-about-The-Haven-Project-and-our-latest-initiative.jpg
END:VEVENT
BEGIN:VEVENT
DTSTART;TZID=America/New_York:20230624T110000
DTEND;TZID=America/New_York:20230624T120000
DTSTAMP:20260419T233929
CREATED:20230609T200524Z
LAST-MODIFIED:20230609T200524Z
UID:9709-1687604400-1687608000@greaterlynnchamber.com
SUMMARY:Free Outdoor Concert: The 2023 World Music Concert Series\, Celebrate Diversity\, Build Community Lynn
DESCRIPTION:Join us for the 2023 World Music Concert Series\, Celebrate Diversity\, Build Community Lynn \nProphet PM and Friends\nSat Jun 24 2023 at 11:00 AM at Red Rock Park 17 Prescott Rd\, Lynn\, MA 01902. \n“Prophet PM and Friends” is a Boston-based music group that provides a serene listening experience. Drawing inspiration from legends like Stevie Wonder to modern marvels like The Weeknd\, Prophet PM\, and Friends performs an assortment of covers and original material perfect for all ages on any occasion. \nThe World Music Concert Series\, Celebrate Diversity\, Build Community  – organized by Grammy-nominated global jazz percussionist\, educator\, and composer Tareq Rantisi — has a spatial and social justice focus\, bringing diverse world-class artists to underutilized public spaces. The series features artists representing our local community\, in beaches and parks that rarely host public events. The artists are masters of their own cultural traditions. \nAll Concerts are outdoors\, free\, and intended to be accessible to all people (Immunocompromised\, disabled\, elderly and children\, etc). Free masks will be available for the public Co-sponsored by ProjectN95. \nThe World Music Concert Series\, Celebrate Diversity\, Build Community Lynn is supported by a grant from Save the Harbor/Save the Bay and the Massachusetts Department of Conservation and Recreation (DCR).
URL:https://greaterlynnchamber.com/event/free-outdoor-concert-the-2023-world-music-concert-series-celebrate-diversity-build-community-lynn/
CATEGORIES:Community Events
ATTACH;FMTTYPE=image/jpeg:https://greaterlynnchamber.com/wp-content/uploads/2023/06/5.jpg
END:VEVENT
BEGIN:VEVENT
DTSTART;TZID=America/New_York:20230628T180000
DTEND;TZID=America/New_York:20230628T200000
DTSTAMP:20260419T233929
CREATED:20230615T195118Z
LAST-MODIFIED:20230615T195118Z
UID:9746-1687975200-1687982400@greaterlynnchamber.com
SUMMARY:Yard Game Olympics at Bent Water!
DESCRIPTION:
URL:https://greaterlynnchamber.com/event/yard-game-olympics-at-bent-water-2/
LOCATION:Bent Water Brewing Co.\, 180 Commercial St.\, #18\, Lynn
CATEGORIES:Business After Hours,Chamber Events
END:VEVENT
END:VCALENDAR