BEGIN:VCALENDAR
VERSION:2.0
PRODID:-//Greater Lynn Chamber of Commerce - ECPv6.15.14//NONSGML v1.0//EN
CALSCALE:GREGORIAN
METHOD:PUBLISH
X-WR-CALNAME:Greater Lynn Chamber of Commerce
X-ORIGINAL-URL:https://greaterlynnchamber.com
X-WR-CALDESC:Events for Greater Lynn Chamber of Commerce
REFRESH-INTERVAL;VALUE=DURATION:PT1H
X-Robots-Tag:noindex
X-PUBLISHED-TTL:PT1H
BEGIN:VTIMEZONE
TZID:America/New_York
BEGIN:DAYLIGHT
TZOFFSETFROM:-0500
TZOFFSETTO:-0400
TZNAME:EDT
DTSTART:20220313T070000
END:DAYLIGHT
BEGIN:STANDARD
TZOFFSETFROM:-0400
TZOFFSETTO:-0500
TZNAME:EST
DTSTART:20221106T060000
END:STANDARD
BEGIN:DAYLIGHT
TZOFFSETFROM:-0500
TZOFFSETTO:-0400
TZNAME:EDT
DTSTART:20230312T070000
END:DAYLIGHT
BEGIN:STANDARD
TZOFFSETFROM:-0400
TZOFFSETTO:-0500
TZNAME:EST
DTSTART:20231105T060000
END:STANDARD
BEGIN:DAYLIGHT
TZOFFSETFROM:-0500
TZOFFSETTO:-0400
TZNAME:EDT
DTSTART:20240310T070000
END:DAYLIGHT
BEGIN:STANDARD
TZOFFSETFROM:-0400
TZOFFSETTO:-0500
TZNAME:EST
DTSTART:20241103T060000
END:STANDARD
END:VTIMEZONE
BEGIN:VEVENT
DTSTART;VALUE=DATE:20230323
DTEND;VALUE=DATE:20230324
DTSTAMP:20260419T130216
CREATED:20230223T030027Z
LAST-MODIFIED:20230223T030027Z
UID:8664-1679529600-1679615999@greaterlynnchamber.com
SUMMARY:Salem Film Fest 2023
DESCRIPTION:Salem Film Fest in-person March 23 through March 26\, and streaming March 27 through April 2! Screening features and blocks of short films\, in-person filmmaker Q&A\, and free events. Learn more at salemfilmfest.com. #SALEMFILMFEST2023
URL:https://greaterlynnchamber.com/event/salem-film-fest-2023/2023-03-23/
CATEGORIES:Community Events
ATTACH;FMTTYPE=image/png:https://greaterlynnchamber.com/wp-content/uploads/2023/02/SFF_2023_WebBannerDATES_1920x1080-5.png
END:VEVENT
END:VCALENDAR